BEGIN:VCALENDAR
VERSION:2.0
PRODID:-//Udruga Dobre Dobričević - ECPv5.16.2.1//NONSGML v1.0//EN
CALSCALE:GREGORIAN
METHOD:PUBLISH
X-WR-CALNAME:Udruga Dobre Dobričević
X-ORIGINAL-URL:https://dobredobricevic.hr
X-WR-CALDESC:Events for Udruga Dobre Dobričević
REFRESH-INTERVAL;VALUE=DURATION:PT1H
X-Robots-Tag:noindex
X-PUBLISHED-TTL:PT1H
BEGIN:VTIMEZONE
TZID:Europe/Zagreb
BEGIN:DAYLIGHT
TZOFFSETFROM:+0100
TZOFFSETTO:+0200
TZNAME:CEST
DTSTART:20220327T010000
END:DAYLIGHT
BEGIN:STANDARD
TZOFFSETFROM:+0200
TZOFFSETTO:+0100
TZNAME:CET
DTSTART:20221030T010000
END:STANDARD
END:VTIMEZONE
BEGIN:VEVENT
DTSTART;VALUE=DATE:20220702
DTEND;VALUE=DATE:20220703
DTSTAMP:20260423T122445
CREATED:20220704T081201Z
LAST-MODIFIED:20220704T081201Z
UID:2204-1656720000-1656806399@dobredobricevic.hr
SUMMARY:Radionica ženskog klapskog pjevanja
DESCRIPTION:
URL:https://dobredobricevic.hr/event/radionica-zenskog-klapskog-pjevanja-40/
END:VEVENT
BEGIN:VEVENT
DTSTART;VALUE=DATE:20220702
DTEND;VALUE=DATE:20220703
DTSTAMP:20260423T122445
CREATED:20220704T081012Z
LAST-MODIFIED:20220704T081012Z
UID:2201-1656720000-1656806399@dobredobricevic.hr
SUMMARY:Radionica ženskog klapskog pjevanja za mlade
DESCRIPTION:
URL:https://dobredobricevic.hr/event/radionica-zenskog-klapskog-pjevanja-za-mlade-38/
END:VEVENT
BEGIN:VEVENT
DTSTART;VALUE=DATE:20220629
DTEND;VALUE=DATE:20220630
DTSTAMP:20260423T122445
CREATED:20220701T094826Z
LAST-MODIFIED:20220701T094826Z
UID:2198-1656460800-1656547199@dobredobricevic.hr
SUMMARY:Program “Jane’s walks” – Okrugli stol: Društvena namjena
DESCRIPTION:
URL:https://dobredobricevic.hr/event/program-janes-walks-okrugli-stol-drustvena-namjena/
END:VEVENT
BEGIN:VEVENT
DTSTART;VALUE=DATE:20220627
DTEND;VALUE=DATE:20220628
DTSTAMP:20260423T122445
CREATED:20220629T072809Z
LAST-MODIFIED:20220629T072809Z
UID:2195-1656288000-1656374399@dobredobricevic.hr
SUMMARY:Radionica ženskog klapskog pjevanja
DESCRIPTION:
URL:https://dobredobricevic.hr/event/radionica-zenskog-klapskog-pjevanja-39/
END:VEVENT
BEGIN:VEVENT
DTSTART;VALUE=DATE:20220625
DTEND;VALUE=DATE:20220626
DTSTAMP:20260423T122445
CREATED:20220629T072701Z
LAST-MODIFIED:20220629T072701Z
UID:2192-1656115200-1656201599@dobredobricevic.hr
SUMMARY:Radionica ženskog klapskog pjevanja
DESCRIPTION:
URL:https://dobredobricevic.hr/event/radionica-zenskog-klapskog-pjevanja-38/
END:VEVENT
BEGIN:VEVENT
DTSTART;VALUE=DATE:20220625
DTEND;VALUE=DATE:20220626
DTSTAMP:20260423T122445
CREATED:20220621T104858Z
LAST-MODIFIED:20220621T104858Z
UID:2188-1656115200-1656201599@dobredobricevic.hr
SUMMARY:Radionica: Građanski inkubator “Kako prepoznati korupciju?”
DESCRIPTION:
URL:https://dobredobricevic.hr/event/radionica-gradanski-inkubator-kako-prepoznati-korupciju/
END:VEVENT
BEGIN:VEVENT
DTSTART;VALUE=DATE:20220620
DTEND;VALUE=DATE:20220621
DTSTAMP:20260423T122445
CREATED:20220621T073315Z
LAST-MODIFIED:20220621T073315Z
UID:2182-1655683200-1655769599@dobredobricevic.hr
SUMMARY:Radionica muškog klapskog pjevanja za mlade
DESCRIPTION:
URL:https://dobredobricevic.hr/event/radionica-muskog-klapskog-pjevanja-za-mlade-24/
END:VEVENT
BEGIN:VEVENT
DTSTART;VALUE=DATE:20220620
DTEND;VALUE=DATE:20220621
DTSTAMP:20260423T122445
CREATED:20220621T073211Z
LAST-MODIFIED:20220621T073211Z
UID:2179-1655683200-1655769599@dobredobricevic.hr
SUMMARY:Radionica ženskog klapskog pjevanja za mlade
DESCRIPTION:
URL:https://dobredobricevic.hr/event/radionica-zenskog-klapskog-pjevanja-za-mlade-37/
END:VEVENT
BEGIN:VEVENT
DTSTART;VALUE=DATE:20220618
DTEND;VALUE=DATE:20220619
DTSTAMP:20260423T122445
CREATED:20220620T083356Z
LAST-MODIFIED:20220620T083356Z
UID:2176-1655510400-1655596799@dobredobricevic.hr
SUMMARY:Radionica ženskog klapskog pjevanja
DESCRIPTION:
URL:https://dobredobricevic.hr/event/radionica-zenskog-klapskog-pjevanja-37/
END:VEVENT
BEGIN:VEVENT
DTSTART;VALUE=DATE:20220618
DTEND;VALUE=DATE:20220619
DTSTAMP:20260423T122445
CREATED:20220617T073316Z
LAST-MODIFIED:20220617T073316Z
UID:2170-1655510400-1655596799@dobredobricevic.hr
SUMMARY:Predavanje/Okrugli stol:” Baštinski aktivizam: O suhozidima i volontiranju"
DESCRIPTION:
URL:https://dobredobricevic.hr/event/predavanje-okrugli-stol-bastinski-aktivizam-o-suhozidima-i-volontiranju/
END:VEVENT
BEGIN:VEVENT
DTSTART;VALUE=DATE:20220617
DTEND;VALUE=DATE:20220618
DTSTAMP:20260423T122445
CREATED:20220621T080757Z
LAST-MODIFIED:20220621T080757Z
UID:2185-1655424000-1655510399@dobredobricevic.hr
SUMMARY:Program “Jane’s walks” – Okrugli stol: Volontiranje u Dobri Dobričeviću
DESCRIPTION:
URL:https://dobredobricevic.hr/event/program-janes-walks-okrugli-stol-volontiranje-u-dobri-dobricevicu/
END:VEVENT
BEGIN:VEVENT
DTSTART;VALUE=DATE:20220617
DTEND;VALUE=DATE:20220618
DTSTAMP:20260423T122445
CREATED:20220620T083026Z
LAST-MODIFIED:20220620T083026Z
UID:2173-1655424000-1655510399@dobredobricevic.hr
SUMMARY:Radionica ženskog klapskog pjevanja za mlade
DESCRIPTION:
URL:https://dobredobricevic.hr/event/radionica-zenskog-klapskog-pjevanja-za-mlade-36/
END:VEVENT
BEGIN:VEVENT
DTSTART;VALUE=DATE:20220617
DTEND;VALUE=DATE:20220618
DTSTAMP:20260423T122445
CREATED:20220615T081825Z
LAST-MODIFIED:20220615T081825Z
UID:2164-1655424000-1655510399@dobredobricevic.hr
SUMMARY:Predavanje/Okrugli stol:" Sport na otvorenom u kontekstu dalmatinskog mista/otoka"
DESCRIPTION:
URL:https://dobredobricevic.hr/event/predavanje-okrugli-stol-sport-na-otvorenom-u-kontekstu-dalmatinskog-mista-otoka/
END:VEVENT
BEGIN:VEVENT
DTSTART;VALUE=DATE:20220615
DTEND;VALUE=DATE:20220616
DTSTAMP:20260423T122445
CREATED:20220617T073059Z
LAST-MODIFIED:20220617T073059Z
UID:2167-1655251200-1655337599@dobredobricevic.hr
SUMMARY:Sastanak književnog kluba
DESCRIPTION:
URL:https://dobredobricevic.hr/event/sastanak-knjizevnog-kluba-13/
END:VEVENT
BEGIN:VEVENT
DTSTART;VALUE=DATE:20220613
DTEND;VALUE=DATE:20220614
DTSTAMP:20260423T122445
CREATED:20220614T073444Z
LAST-MODIFIED:20220614T073444Z
UID:2161-1655078400-1655164799@dobredobricevic.hr
SUMMARY:Radionica muškog klapskog pjevanja za mlade
DESCRIPTION:
URL:https://dobredobricevic.hr/event/radionica-muskog-klapskog-pjevanja-za-mlade-23/
END:VEVENT
BEGIN:VEVENT
DTSTART;VALUE=DATE:20220613
DTEND;VALUE=DATE:20220614
DTSTAMP:20260423T122445
CREATED:20220614T072906Z
LAST-MODIFIED:20220614T072906Z
UID:2158-1655078400-1655164799@dobredobricevic.hr
SUMMARY:Radionica ženskog klapskog pjevanja za mlade
DESCRIPTION:
URL:https://dobredobricevic.hr/event/radionica-zenskog-klapskog-pjevanja-za-mlade-35/
END:VEVENT
BEGIN:VEVENT
DTSTART;VALUE=DATE:20220611
DTEND;VALUE=DATE:20220612
DTSTAMP:20260423T122445
CREATED:20220614T070637Z
LAST-MODIFIED:20220614T070637Z
UID:2155-1654905600-1654991999@dobredobricevic.hr
SUMMARY:Radionica muškog klapskog pjevanja
DESCRIPTION:
URL:https://dobredobricevic.hr/event/radionica-muskog-klapskog-pjevanja-14/
END:VEVENT
BEGIN:VEVENT
DTSTART;VALUE=DATE:20220611
DTEND;VALUE=DATE:20220612
DTSTAMP:20260423T122445
CREATED:20220614T070212Z
LAST-MODIFIED:20220614T070212Z
UID:2152-1654905600-1654991999@dobredobricevic.hr
SUMMARY:Radionica ženskog klapskog pjevanja
DESCRIPTION:
URL:https://dobredobricevic.hr/event/radionica-zenskog-klapskog-pjevanja-36/
END:VEVENT
BEGIN:VEVENT
DTSTART;VALUE=DATE:20220611
DTEND;VALUE=DATE:20220612
DTSTAMP:20260423T122445
CREATED:20220614T065853Z
LAST-MODIFIED:20220614T065853Z
UID:2149-1654905600-1654991999@dobredobricevic.hr
SUMMARY:Radionica ženskog klapskog pjevanja za mlade
DESCRIPTION:
URL:https://dobredobricevic.hr/event/radionica-zenskog-klapskog-pjevanja-za-mlade-34/
END:VEVENT
BEGIN:VEVENT
DTSTART;VALUE=DATE:20220604
DTEND;VALUE=DATE:20220605
DTSTAMP:20260423T122445
CREATED:20220609T072726Z
LAST-MODIFIED:20220609T072726Z
UID:2144-1654300800-1654387199@dobredobricevic.hr
SUMMARY:Radionica muškog klapskog pjevanja
DESCRIPTION:
URL:https://dobredobricevic.hr/event/radionica-muskog-klapskog-pjevanja-13/
END:VEVENT
BEGIN:VEVENT
DTSTART;VALUE=DATE:20220604
DTEND;VALUE=DATE:20220605
DTSTAMP:20260423T122445
CREATED:20220609T072512Z
LAST-MODIFIED:20220609T072512Z
UID:2141-1654300800-1654387199@dobredobricevic.hr
SUMMARY:Radionica ženskog klapskog pjevanja
DESCRIPTION:
URL:https://dobredobricevic.hr/event/radionica-zenskog-klapskog-pjevanja-35/
END:VEVENT
BEGIN:VEVENT
DTSTART;VALUE=DATE:20220604
DTEND;VALUE=DATE:20220605
DTSTAMP:20260423T122445
CREATED:20220609T072251Z
LAST-MODIFIED:20220609T072251Z
UID:2137-1654300800-1654387199@dobredobricevic.hr
SUMMARY:Radionica ženskog klapskog pjevanja za mlade
DESCRIPTION:
URL:https://dobredobricevic.hr/event/radionica-zenskog-klapskog-pjevanja-za-mlade-33/
END:VEVENT
BEGIN:VEVENT
DTSTART;VALUE=DATE:20220603
DTEND;VALUE=DATE:20220604
DTSTAMP:20260423T122445
CREATED:20220601T080035Z
LAST-MODIFIED:20220606T114458Z
UID:2096-1654214400-1654300799@dobredobricevic.hr
SUMMARY:Predavanje storytellinga – "Liburnijska božica Sentona-zaštitnica putnika"
DESCRIPTION:
URL:https://dobredobricevic.hr/event/predavanja-storytellinga-liburnijska-bozica-sentona-zastitnica-putnika/
END:VEVENT
BEGIN:VEVENT
DTSTART;VALUE=DATE:20220603
DTEND;VALUE=DATE:20220604
DTSTAMP:20260423T122445
CREATED:20220601T075802Z
LAST-MODIFIED:20220606T114533Z
UID:2093-1654214400-1654300799@dobredobricevic.hr
SUMMARY:Predavanje storytellinga – "Hrvatski otočni proizvod u očuvanju kulturne baštine Cresa"
DESCRIPTION:
URL:https://dobredobricevic.hr/event/predavanja-storytellinga-hrvatski-otocni-proizvod-u-ocuvanju-kulturne-bastine-otoka-cresa/
END:VEVENT
BEGIN:VEVENT
DTSTART;VALUE=DATE:20220602
DTEND;VALUE=DATE:20220603
DTSTAMP:20260423T122445
CREATED:20220601T075554Z
LAST-MODIFIED:20220601T075554Z
UID:2090-1654128000-1654214399@dobredobricevic.hr
SUMMARY:Festival "Boninove pustolovine"
DESCRIPTION:
URL:https://dobredobricevic.hr/event/festival-boninove-pustolovine-2/
END:VEVENT
BEGIN:VEVENT
DTSTART;VALUE=DATE:20220602
DTEND;VALUE=DATE:20220603
DTSTAMP:20260423T122445
CREATED:20220601T075408Z
LAST-MODIFIED:20220606T114618Z
UID:2087-1654128000-1654214399@dobredobricevic.hr
SUMMARY:Predavanje storytellinga – "Samoniklo otočno bilje u Rutinim proizvodima”
DESCRIPTION:
URL:https://dobredobricevic.hr/event/predavanja-storytellinga-samoniklo-otocno-bilje-u-rutinim-proizvodima/
END:VEVENT
BEGIN:VEVENT
DTSTART;VALUE=DATE:20220601
DTEND;VALUE=DATE:20220602
DTSTAMP:20260423T122445
CREATED:20220531T103530Z
LAST-MODIFIED:20220531T103530Z
UID:2082-1654041600-1654127999@dobredobricevic.hr
SUMMARY:Program neformalnog obrazovanja –Modeli promocije turističkog sadržaja kroz društvene mreže
DESCRIPTION:
URL:https://dobredobricevic.hr/event/program-neformalnog-obrazovanja-modeli-promocije-turistickog-sadrzaja-kroz-drustvene-mreze/
END:VEVENT
BEGIN:VEVENT
DTSTART;VALUE=DATE:20220528
DTEND;VALUE=DATE:20220529
DTSTAMP:20260423T122445
CREATED:20220531T072951Z
LAST-MODIFIED:20220531T072951Z
UID:2073-1653696000-1653782399@dobredobricevic.hr
SUMMARY:Čišćenje podmorja: Lučica i uvala Mihajla
DESCRIPTION:
URL:https://dobredobricevic.hr/event/ciscenje-podmorja-lucica-i-uvala-mihajla/
END:VEVENT
BEGIN:VEVENT
DTSTART;VALUE=DATE:20220528
DTEND;VALUE=DATE:20220529
DTSTAMP:20260423T122445
CREATED:20220526T085356Z
LAST-MODIFIED:20220526T085356Z
UID:2066-1653696000-1653782399@dobredobricevic.hr
SUMMARY:Edukacija: Građani grade javne politike "Javno zagovaranje"
DESCRIPTION:
URL:https://dobredobricevic.hr/event/edukacija-gradani-grade-javne-politike-javno-zagovaranje/
END:VEVENT
BEGIN:VEVENT
DTSTART;VALUE=DATE:20220527
DTEND;VALUE=DATE:20220528
DTSTAMP:20260423T122445
CREATED:20220531T090409Z
LAST-MODIFIED:20220531T090409Z
UID:2079-1653609600-1653695999@dobredobricevic.hr
SUMMARY:Radionica ženskog klapskog pjevanja
DESCRIPTION:
URL:https://dobredobricevic.hr/event/radionica-zenskog-klapskog-pjevanja-34/
END:VEVENT
END:VCALENDAR